BEGIN:VCALENDAR
VERSION:2.0
PRODID:< http://www.open2c.de/ >
METHOD:PUBLISH
X-PUBLISHED-TTL:PT12H
BEGIN:VTIMEZONE
TZID:Europe/Berlin
TZURL:http://tzurl.org/zoneinfo-outlook/Europe/Berlin
X-LIC-LOCATION:Europe/Berlin
CALSCALE:GREGORIAN
BEGIN:DAYLIGHT
TZOFFSETFROM:+0100
TZOFFSETTO:+0200
TZNAME:CEST
DTSTART:19700329T020000
RRULE:FREQ=YEARLY;BYMONTH=3;BYDAY=-1SU
END:DAYLIGHT
BEGIN:STANDARD
TZOFFSETFROM:+0200
TZOFFSETTO:+0100
TZNAME:CET
DTSTART:19701025T030000
RRULE:FREQ=YEARLY;BYMONTH=10;BYDAY=-1SU
END:STANDARD
END:VTIMEZONE
BEGIN:VEVENT
CREATED:20150520T160221
LAST-MODIFIED:20150520T194215
ORGANIZER;CN="Department of Italian Studies\nUniversity of Łódź\nPomorska 171/173\n90-236 Łódź\ntel/fax +48 – 42 6655150":MAILTO:Artur Gałkowski (artgal@interia.pl)
DTSTAMP:20260421T091658Z
DTSTART;TZID=Europe/Berlin:20150524T000000
DTEND;TZID=Europe/Berlin:20150527T000000
CATEGORIES:Konferenz/Kongress/Tagung
URL:semiotica.uni.lodz.pl
SUMMARY:Semiotica 2015: International Semiotic Conference
DESCRIPTION: SIGN – THOUGHT – WORD – WORK. Organisator Department of
	 Italian Studies University of Łódź Pomorska 171/173 90-236 Łódź tel
	/fax +48 – 42 6655150 Kontakt Artur Gałkowski (artgal@interia.pl)
LOCATION:Łódź
UID:5b54b90aa31951b595369ace81d2edb1@054d0aeb2671403f8b4299b6eb2e8455
END:VEVENT
END:VCALENDAR