BEGIN:VCALENDAR
VERSION:2.0
PRODID:< http://www.open2c.de/ >
METHOD:PUBLISH
X-PUBLISHED-TTL:PT12H
BEGIN:VTIMEZONE
TZID:Europe/Berlin
TZURL:http://tzurl.org/zoneinfo-outlook/Europe/Berlin
X-LIC-LOCATION:Europe/Berlin
CALSCALE:GREGORIAN
BEGIN:DAYLIGHT
TZOFFSETFROM:+0100
TZOFFSETTO:+0200
TZNAME:CEST
DTSTART:19700329T020000
RRULE:FREQ=YEARLY;BYMONTH=3;BYDAY=-1SU
END:DAYLIGHT
BEGIN:STANDARD
TZOFFSETFROM:+0200
TZOFFSETTO:+0100
TZNAME:CET
DTSTART:19701025T030000
RRULE:FREQ=YEARLY;BYMONTH=10;BYDAY=-1SU
END:STANDARD
END:VTIMEZONE
BEGIN:VEVENT
CREATED:20211111T082014
LAST-MODIFIED:20211111T082537
DTSTAMP:20260422T012432Z
DTSTART;TZID=Europe/Berlin:20211111T000000
DTEND;TZID=Europe/Berlin:20220228T000000
CATEGORIES:Call for Articles
URL:https://artstyle.international
SUMMARY:Art Style Magazine Special Issue Multimodality
DESCRIPTION:Special edition on: "Multimodality: On the sensually organized 
	and at the same time meaningful and socio-culturally relevant potential of
	 artistic works"\, edited by Martina Sauer (Senior Editor\, Institute for Im
	age and Cultural Philosophy: https://www.bildphilosophie.de/en-gb) and Chr
	istiane Wagner (Editor-in-Chief\, University of São Paulo: https://orcid.o
	rg/0000-0002-3445-1446) Informationen zum Ausschreibungstext finden sich u
	nter: https://artstyle2018.files.wordpress.com/2021/10/art_style_magazine_
	special_edition_multimodality.pdf.
UID:fb6f1f68c02bae3fef5d2d8b8fb01b7a@054d0aeb2671403f8b4299b6eb2e8455
END:VEVENT
BEGIN:VTIMEZONE
TZID:Europe/Berlin
TZURL:http://tzurl.org/zoneinfo-outlook/Europe/Berlin
X-LIC-LOCATION:Europe/Berlin
CALSCALE:GREGORIAN
BEGIN:DAYLIGHT
TZOFFSETFROM:+0100
TZOFFSETTO:+0200
TZNAME:CEST
DTSTART:19700329T020000
RRULE:FREQ=YEARLY;BYMONTH=3;BYDAY=-1SU
END:DAYLIGHT
BEGIN:STANDARD
TZOFFSETFROM:+0200
TZOFFSETTO:+0100
TZNAME:CET
DTSTART:19701025T030000
RRULE:FREQ=YEARLY;BYMONTH=10;BYDAY=-1SU
END:STANDARD
END:VTIMEZONE
BEGIN:VEVENT
CREATED:20211111T082547
LAST-MODIFIED:20211111T082714
DTSTAMP:20260422T012432Z
DTSTART;TZID=Europe/Berlin:20211111T000000
DTEND;TZID=Europe/Berlin:20220228T000000
CATEGORIES:Call for Articles
URL:https://artstyle.international
SUMMARY:Art Style Magazine Special Issue Atmosphere and Mood
DESCRIPTION:Special edition on: "Atmosphere and Mood: Two Sides of The Same
	 Phenomenon"\, edited by Martina Sauer (Senior Editor\, Institute for Image 
	and Cultural Philosophy: https://www.bildphilosophie.de/en-gb) and Zhuofei
	 Wang (Co-Editor\, Institute for Philosophy at the University of Hildesheim
	)\, https://www.uni-hildesheim.de/fb2/institute/philosophie/team/dr-zhuofei
	-wang/). Informationen zum Ausschreibungstext finden sich unter:https://ar
	tstyle2018.files.wordpress.com/2021/10/art_style_magazine_special_edition_
	atmosphere-mood.pdf
UID:f0e2a69f3162e469b169af00a5f5e29f@054d0aeb2671403f8b4299b6eb2e8455
END:VEVENT
BEGIN:VTIMEZONE
TZID:Europe/Berlin
TZURL:http://tzurl.org/zoneinfo-outlook/Europe/Berlin
X-LIC-LOCATION:Europe/Berlin
CALSCALE:GREGORIAN
BEGIN:DAYLIGHT
TZOFFSETFROM:+0100
TZOFFSETTO:+0200
TZNAME:CEST
DTSTART:19700329T020000
RRULE:FREQ=YEARLY;BYMONTH=3;BYDAY=-1SU
END:DAYLIGHT
BEGIN:STANDARD
TZOFFSETFROM:+0200
TZOFFSETTO:+0100
TZNAME:CET
DTSTART:19701025T030000
RRULE:FREQ=YEARLY;BYMONTH=10;BYDAY=-1SU
END:STANDARD
END:VTIMEZONE
BEGIN:VEVENT
CREATED:20220119T092402
LAST-MODIFIED:20220119T092628
ORGANIZER;CN="Amelie Zimmermann (amelie.zimmermann@uni-passau.de) und Martin Hennig (martin.hennig@izew.uni-tuebingen.de)"
DTSTAMP:20260422T012432Z
DTSTART;VALUE=DATE:20220119
CATEGORIES:Colloquium
SUMMARY:Semiotic Friday
DESCRIPTION:Der Semiotic Friday ist ein offenes Austauschformat für alle\, 
	die sich mit Semiotik beschäftigen (wollen)\, veranstaltet von der AG Medi
	ensemiotik der Gesellschaft für Medienwissenschaft. Ab Februar 2022 biete
	t der letzte Freitag im Monat von 14-15.30 Uhr den Raum\, über semiotische
	 Texte\, Theorien\, Methoden oder konkrete Analysen und Fragestellungen onli
	ne in Austausch zu treten. Es geht dabei nicht um fertige Projekte oder Vo
	rträge\, sondern um die gemeinsame Diskussion und Weiterentwicklung von Id
	een. Die jeweiligen Moderator:innen können die Sitzungen nach eigener Ma
	ßgabe frei und kreativ gestalten. Die Themen und Sitzungsverantwortlichen
	 für das erste Halbjahr 2022 stehen schon fest. Die ersten Termine dienen
	 der Diskussion von semiotischen Grundlagentexten\, die Folgetermine könne
	n jedoch inhaltlich frei gestaltet werden. Organisator Amelie Zimmermann (
	amelie.zimmermann@uni-passau.de) und Martin Hennig (martin.hennig@izew.uni
	-tuebingen.de)
LOCATION:online
UID:73e2db3ce1a029a01f5b86f5f945978e@054d0aeb2671403f8b4299b6eb2e8455
END:VEVENT
END:VCALENDAR