BEGIN:VCALENDAR
VERSION:1.0
PRODID:Open2CKalenderExportV11
BEGIN:VEVENT
DTSTAMP:20211111T072537Z
DTSTART:20211111T000000Z
DTEND:20220228T000000Z
CATEGORIES:Call for Articles
URL:https://artstyle.international
SUMMARY:Art Style Magazine Special Issue Multimodality
DESCRIPTION:Special edition on: "Multimodality: On the sensually organized and at the same time meaningful and socio-culturally relevant potential of artistic works", edited by Martina Sauer (Senior Editor, Institute for Image and Cultural Philosophy: https://www.bildphilosophie.de/en-gb) and Christiane Wagner (Editor-in-Chief, University of São Paulo: https://orcid.org/0000-0002-3445-1446) Informationen zum Ausschreibungstext finden sich unter: https://artstyle2018.files.wordpress.com/2021/10/art_style_magazine_special_edition_multimodality.pdf.
LOCATION:
UID:d8953903cfebabeebf8630b1746fb1d7-88c72d43a9cde293313e1d4443fd377f
PRIORITY:3
END:VEVENT
BEGIN:VEVENT
DTSTAMP:20211111T072714Z
DTSTART:20211111T000000Z
DTEND:20220228T000000Z
CATEGORIES:Call for Articles
URL:https://artstyle.international
SUMMARY:Art Style Magazine Special Issue Atmosphere and Mood
DESCRIPTION:Special edition on: "Atmosphere and Mood: Two Sides of The Same Phenomenon", edited by Martina Sauer (Senior Editor, Institute for Image and Cultural Philosophy: https://www.bildphilosophie.de/en-gb) and Zhuofei Wang (Co-Editor, Institute for Philosophy at the University of Hildesheim), https://www.uni-hildesheim.de/fb2/institute/philosophie/team/dr-zhuofei-wang/). Informationen zum Ausschreibungstext finden sich unter:https://artstyle2018.files.wordpress.com/2021/10/art_style_magazine_special_edition_atmosphere-mood.pdf
LOCATION:
UID:d8953903cfebabeebf8630b1746fb1d7-48c90461e2239a1ea718b08609d32518
PRIORITY:3
END:VEVENT
BEGIN:VEVENT
DTSTAMP:20220119T082628Z
DTSTART:20220119T000000Z
DTEND:20220119T000000Z
CATEGORIES:Colloquium
SUMMARY:Semiotic Friday
DESCRIPTION:Der Semiotic Friday ist ein offenes Austauschformat für alle, die sich mit Semiotik beschäftigen (wollen), veranstaltet von der AG Mediensemiotik der Gesellschaft für Medienwissenschaft. Ab Fe\nuar 2022 bietet der letzte Freitag im Monat von 14-15.30 Uhr den Raum, über semiotische Texte, Theorien, Methoden oder konkrete Analysen und Fragestellungen online in Austausch zu treten.  | Es geht dabei nicht um fertige Projekte oder Vorträge, sondern um die gemeinsame Diskussion und Weiterentwicklung von Ideen. Die jeweiligen Moderator:innen können die Sitzungen nach eigener Maßgabe frei und kreativ gestalten.  | Die Themen und Sitzungsverantwortlichen für das erste Halbjahr 2022 stehen schon fest. Die ersten Termine dienen der Diskussion von semiotischen Grundlagentexten, die Folgetermine können jedoch inhaltlich frei gestaltet werden.  | Organisator   Amelie Zimmermann (amelie.zimmermann@uni-passau.de) und Martin Hennig (martin.hennig@izew.uni-tuebingen.de)
LOCATION:online
UID:65ebcdef1821f85b6e23df5140cc1065-49623f27b0878007fbd5d1abdb324f24
PRIORITY:3
END:VEVENT
END:VCALENDAR
