BEGIN:VCALENDAR
VERSION:1.0
PRODID:Open2CKalenderExportV11
BEGIN:VEVENT
DTSTAMP:20160328T212052Z
DTSTART:20160928T000000Z
DTEND:20161002T000000Z
CATEGORIES:Konferenz/Kongress/Tagung
URL:https://easychair.org/conferences/?conf=ssa2016
SUMMARY:Semiotic Society of America 41st annual Conference
DESCRIPTION: | Organisator   German Studies | Florida Atlantic University | Kontakt   Prisca Augustyn | German Studies | Florida Atlantic University | 777 Glades Road | FL–33431 Boca Raton
LOCATION:Delray Beach
UID:721947788449cec461020a55cd2557ba-dd6e653398a66399e2818fd7c80b1203
PRIORITY:3
END:VEVENT

END:VCALENDAR

